BEGIN:VCALENDAR
VERSION:2.0
PRODID:-//Johannes-Kepler-Gymnasium Chemnitz - ECPv6.15.15//NONSGML v1.0//EN
CALSCALE:GREGORIAN
METHOD:PUBLISH
X-WR-CALNAME:Johannes-Kepler-Gymnasium Chemnitz
X-ORIGINAL-URL:https://www.kepler-chemnitz.de
X-WR-CALDESC:Veranstaltungen für Johannes-Kepler-Gymnasium Chemnitz
REFRESH-INTERVAL;VALUE=DURATION:PT1H
X-Robots-Tag:noindex
X-PUBLISHED-TTL:PT1H
BEGIN:VTIMEZONE
TZID:Europe/Berlin
BEGIN:DAYLIGHT
TZOFFSETFROM:+0100
TZOFFSETTO:+0200
TZNAME:CEST
DTSTART:20230326T010000
END:DAYLIGHT
BEGIN:STANDARD
TZOFFSETFROM:+0200
TZOFFSETTO:+0100
TZNAME:CET
DTSTART:20231029T010000
END:STANDARD
BEGIN:DAYLIGHT
TZOFFSETFROM:+0100
TZOFFSETTO:+0200
TZNAME:CEST
DTSTART:20240331T010000
END:DAYLIGHT
BEGIN:STANDARD
TZOFFSETFROM:+0200
TZOFFSETTO:+0100
TZNAME:CET
DTSTART:20241027T010000
END:STANDARD
BEGIN:DAYLIGHT
TZOFFSETFROM:+0100
TZOFFSETTO:+0200
TZNAME:CEST
DTSTART:20250330T010000
END:DAYLIGHT
BEGIN:STANDARD
TZOFFSETFROM:+0200
TZOFFSETTO:+0100
TZNAME:CET
DTSTART:20251026T010000
END:STANDARD
END:VTIMEZONE
BEGIN:VEVENT
DTSTART;TZID=Europe/Berlin:20241106T150000
DTEND;TZID=Europe/Berlin:20241106T160000
DTSTAMP:20260421T115058
CREATED:20240911T162845Z
LAST-MODIFIED:20240911T163508Z
UID:15899-1730905200-1730908800@www.kepler-chemnitz.de
SUMMARY:Schülerakademie - Klassenstufe 4
DESCRIPTION:Die Schülerakademie am Johannes-Kepler-Gymnasium Chemnitz ist ein Angebot für mathematisch-naturwissenschaftlich interessierte Schülerinnen und Schüler der Klassenstufe 4. Im Rahmen von Workshops stehen spannende Themen und Experimente aus unterschiedlichen Fachbereichen auf dem Plan. Dabei lernen die Viertklässler alle Naturwissenschaften\, die Mathematik und Technik experimentell kennen. \nHeute Physik (Gruppe 1) und Biologie (Gruppe 2)
URL:https://www.kepler-chemnitz.de/event/schuelerakademie-klassenstufe-4-6/
LOCATION:Johannes-Kepler-Gymnasium\, Deutschland
CATEGORIES:Schulleben
ATTACH;FMTTYPE=image/jpeg:https://www.kepler-chemnitz.de/wp-content/uploads/2024/08/kepleraner_werden_iStock-1019220334_JNemchinova-1024x764-1.jpg
END:VEVENT
BEGIN:VEVENT
DTSTART;TZID=Europe/Berlin:20241114T170000
DTEND;TZID=Europe/Berlin:20241114T190000
DTSTAMP:20260421T115058
CREATED:20241006T150223Z
LAST-MODIFIED:20241006T150223Z
UID:16056-1731603600-1731610800@www.kepler-chemnitz.de
SUMMARY:Kepler-Stammtisch
DESCRIPTION:Liebe Eltern\, liebe Schülerinnen und Schüler\, liebe Lehrerinnen und Lehrer\, \ndie Schulleitung\, der Förderverein\, der Schüler- und der Elternrat laden alle Eltern\, LehrerInnen und SchülerInnen zum ersten Kepler-Stammtisch im Schuljahr 2024-2025 ein. Wir möchten uns mit Ihnen/Euch über aktuelle Themen abstimmen. Der Erfahrungsaustausch soll die Vernetzung der Gremien und damit ein aktives Schulleben fördern.\nMelden Sie sich über ffjkg@kepler-chemnitz.de an\, wir freuen uns auf Ihr Kommen.\n \nSie haben eine Idee oder ein Anliegen? Teilen Sie uns Ihr Thema mit\, wir nehmen es gern in unserer Gesprächsrunde auf.
URL:https://www.kepler-chemnitz.de/event/kepler-stammtisch-2/
LOCATION:Johannes-Kepler-Gymnasium\, Deutschland
CATEGORIES:Schulleben
END:VEVENT
BEGIN:VEVENT
DTSTART;TZID=Europe/Berlin:20241122T180000
DTEND;TZID=Europe/Berlin:20241122T200000
DTSTAMP:20260421T115058
CREATED:20241019T050530Z
LAST-MODIFIED:20241019T050530Z
UID:16158-1732298400-1732305600@www.kepler-chemnitz.de
SUMMARY:Abikonzert 2024 im JKG
DESCRIPTION:Freuen Sie sich auf verschiedene musikalische und künstlerische Beiträge von Schülerinnen und Schülern unserer Schule\, geplant ist auch der Verkauf eines Kalenders mit Druckgrafiken des Kunstkurses. Der Eintritt ist frei\, gefällt das Konzert\, können Sie gern für unseren Abiball spenden. \nWir freuen uns auf Ihren Besuch\nIhre Jahrgangsstufe 12
URL:https://www.kepler-chemnitz.de/event/abikonzert-2024-im-jkg/
LOCATION:Johannes-Kepler-Gymnasium AULA
ATTACH;FMTTYPE=image/jpeg:https://www.kepler-chemnitz.de/wp-content/uploads/2024/10/Abikonzert_2024_kl.jpg
END:VEVENT
BEGIN:VEVENT
DTSTART;TZID=Europe/Berlin:20241127T180000
DTEND;TZID=Europe/Berlin:20241127T210000
DTSTAMP:20260421T115058
CREATED:20241006T184622Z
LAST-MODIFIED:20241006T184622Z
UID:16066-1732730400-1732741200@www.kepler-chemnitz.de
SUMMARY:1. Elternsprechtag 2024-2025
DESCRIPTION:Alle Kepler-Eltern können zwei Wochen vor Termin über Lernsax eine Elternsprechzeit bei einer für das Kind zuständigen Lehrkraft buchen (Formular). Am Veranstaltungstag sind die Lehrkräfte ab 18 Uhr im Haus und beantworten gern Ihre Fragen.Alle Kepler-Eltern können zwei Wochen vor Termin über Lernsax eine Elternsprechzeit bei einer für das Kind zuständigen Lehrerkraft buchen (Formular). Am Veranstaltungstag sind die Lehrkräfte ab 18 Uhr im Haus und beantworten gern Ihre Fragen.
URL:https://www.kepler-chemnitz.de/event/1-elternsprechtag-2024-2025/
CATEGORIES:Schulleben
ATTACH;FMTTYPE=image/jpeg:https://www.kepler-chemnitz.de/wp-content/uploads/2023/09/talk.jpg
END:VEVENT
END:VCALENDAR