BEGIN:VCALENDAR
VERSION:2.0
PRODID:-//Johannes-Kepler-Gymnasium Chemnitz - ECPv6.15.15//NONSGML v1.0//EN
CALSCALE:GREGORIAN
METHOD:PUBLISH
X-ORIGINAL-URL:https://www.kepler-chemnitz.de
X-WR-CALDESC:Veranstaltungen für Johannes-Kepler-Gymnasium Chemnitz
REFRESH-INTERVAL;VALUE=DURATION:PT1H
X-Robots-Tag:noindex
X-PUBLISHED-TTL:PT1H
BEGIN:VTIMEZONE
TZID:Europe/Berlin
BEGIN:DAYLIGHT
TZOFFSETFROM:+0100
TZOFFSETTO:+0200
TZNAME:CEST
DTSTART:20230326T010000
END:DAYLIGHT
BEGIN:STANDARD
TZOFFSETFROM:+0200
TZOFFSETTO:+0100
TZNAME:CET
DTSTART:20231029T010000
END:STANDARD
BEGIN:DAYLIGHT
TZOFFSETFROM:+0100
TZOFFSETTO:+0200
TZNAME:CEST
DTSTART:20240331T010000
END:DAYLIGHT
BEGIN:STANDARD
TZOFFSETFROM:+0200
TZOFFSETTO:+0100
TZNAME:CET
DTSTART:20241027T010000
END:STANDARD
BEGIN:DAYLIGHT
TZOFFSETFROM:+0100
TZOFFSETTO:+0200
TZNAME:CEST
DTSTART:20250330T010000
END:DAYLIGHT
BEGIN:STANDARD
TZOFFSETFROM:+0200
TZOFFSETTO:+0100
TZNAME:CET
DTSTART:20251026T010000
END:STANDARD
END:VTIMEZONE
BEGIN:VEVENT
DTSTART;TZID=Europe/Berlin:20240827T190000
DTEND;TZID=Europe/Berlin:20240827T220000
DTSTAMP:20260423T201018
CREATED:20241006T191423Z
LAST-MODIFIED:20241006T191614Z
UID:16074-1724785200-1724796000@www.kepler-chemnitz.de
SUMMARY:1. Elternratssitzung
DESCRIPTION:Elternratssitzung \nAlle Elternvertreterinnen und Vertreter der Klassenstufen und Kurse sind eingeladen\, sich gemeinsam über aktuelle Themen und Veranstaltungen auszutauschen. Die Schulleitung\, der Schülerrat\, die Schulsozialarbeit und der Förderverein füllen die Austauschrunde mit weiteren aktuellen Themen aus dem Schulalltag auf.
URL:https://www.kepler-chemnitz.de/event/1-elternratssitzung/
LOCATION:Johannes-Kepler-Gymnasium AULA
CATEGORIES:Elternrat
ATTACH;FMTTYPE=image/jpeg:https://www.kepler-chemnitz.de/wp-content/uploads/2020/05/Elternrat_iStock-946706100_KatarzynaBialasiewicz-scaled.jpg
END:VEVENT
END:VCALENDAR