BEGIN:VCALENDAR
VERSION:2.0
PRODID:-//Johannes-Kepler-Gymnasium Chemnitz - ECPv6.15.15//NONSGML v1.0//EN
CALSCALE:GREGORIAN
METHOD:PUBLISH
X-ORIGINAL-URL:https://www.kepler-chemnitz.de
X-WR-CALDESC:Veranstaltungen für Johannes-Kepler-Gymnasium Chemnitz
REFRESH-INTERVAL;VALUE=DURATION:PT1H
X-Robots-Tag:noindex
X-PUBLISHED-TTL:PT1H
BEGIN:VTIMEZONE
TZID:Europe/Berlin
BEGIN:DAYLIGHT
TZOFFSETFROM:+0100
TZOFFSETTO:+0200
TZNAME:CEST
DTSTART:20230326T010000
END:DAYLIGHT
BEGIN:STANDARD
TZOFFSETFROM:+0200
TZOFFSETTO:+0100
TZNAME:CET
DTSTART:20231029T010000
END:STANDARD
BEGIN:DAYLIGHT
TZOFFSETFROM:+0100
TZOFFSETTO:+0200
TZNAME:CEST
DTSTART:20240331T010000
END:DAYLIGHT
BEGIN:STANDARD
TZOFFSETFROM:+0200
TZOFFSETTO:+0100
TZNAME:CET
DTSTART:20241027T010000
END:STANDARD
BEGIN:DAYLIGHT
TZOFFSETFROM:+0100
TZOFFSETTO:+0200
TZNAME:CEST
DTSTART:20250330T010000
END:DAYLIGHT
BEGIN:STANDARD
TZOFFSETFROM:+0200
TZOFFSETTO:+0100
TZNAME:CET
DTSTART:20251026T010000
END:STANDARD
END:VTIMEZONE
BEGIN:VEVENT
DTSTART;TZID=Europe/Berlin:20240507T180000
DTEND;TZID=Europe/Berlin:20240507T210000
DTSTAMP:20260424T001556
CREATED:20230921T175126Z
LAST-MODIFIED:20230921T175126Z
UID:14065-1715104800-1715115600@www.kepler-chemnitz.de
SUMMARY:Informationsabend zur Berufs- und Studienorientierung Klasse 8 – 12 im JKG
DESCRIPTION:Für Schülerinnen und Schüler des JKG  \nAm 7. Mai 2024 kannst du dich von Ausbildungs- und Studieneinrichtungen (Unternehmen in und um Chemnitz\, Universitäten und Fachhochschulen\, Forschungsinstitute) zu Angeboten nach deinem Schulabschluss beraten lassen. Du kannst dich persönlich über Praktikumsplätze (Klasse 9 und 10)\, BELL-Betreuung (Klasse 11 und 12)\, Ausbildungs- und Studienmöglichkeiten sowie Aufstiegschancen informieren. \nFür interessierte Aussteller \nSie möchten Ihr Unternehmen bei uns im Schulhaus präsentieren? Sehr gern halten wir Ihnen eine Fläche frei. Setzen Sie sich mit uns in Verbindung unter berufsmesse.kepler@kepler-chemnitz.de \nWir melden uns umgehend bei Ihnen zurück und besprechen alle Einzelheiten. \n  \nIhr Team der \nBerufs- und Studienorientierungsmesse am JKG \n 
URL:https://www.kepler-chemnitz.de/event/informationsabend-zur-berufs-und-studienorientierung-klasse-8-12-im-jkg/
LOCATION:Johannes-Kepler-Gymnasium\, Deutschland
ATTACH;FMTTYPE=image/jpeg:https://www.kepler-chemnitz.de/wp-content/uploads/2023/09/Plakat-A3_quer.jpg
END:VEVENT
BEGIN:VEVENT
DTSTART;TZID=Europe/Berlin:20240508T103000
DTEND;TZID=Europe/Berlin:20240508T144500
DTSTAMP:20260424T001556
CREATED:20230925T182026Z
LAST-MODIFIED:20241006T194754Z
UID:14132-1715164200-1715179500@www.kepler-chemnitz.de
SUMMARY:Spendenlauf
DESCRIPTION:Am Mittwoch\, 08. Mai 2024 findet der alljährliche Spendenlauf zum Erhalt des Schulclubs am Johannes-Kepler-Gymnasium statt. Dieser wird seit dem Schuljahr 2017/18 ausgetragen und füllt die Finanzierungslücke der Personalkosten des Schulclubs\, welche durch die Stadt leider nicht gedeckt werden. Die Schule und der KJF e.V. Chemnitz hofft wieder auf eine rege Teilnahme\, die Jahr für Jahr für einen Fortbestand des Schulclubs sorgt.
URL:https://www.kepler-chemnitz.de/event/spendenlauf/
LOCATION:Johannes-Kepler-Gymnasium\, Deutschland
ATTACH;FMTTYPE=image/jpeg:https://www.kepler-chemnitz.de/wp-content/uploads/2024/04/Plakat-Spendenlauf-20242961.jpg
END:VEVENT
BEGIN:VEVENT
DTSTART;VALUE=DATE:20240514
DTEND;VALUE=DATE:20240517
DTSTAMP:20260424T001556
CREATED:20240314T112857Z
LAST-MODIFIED:20240314T113324Z
UID:15124-1715644800-1715903999@www.kepler-chemnitz.de
SUMMARY:Altpapiersammlung auf dem Schulhof des JKG
DESCRIPTION:Sehr geehrte Eltern\, liebe Schülerinnen und Schüler\,\nvom 14. – 16. Mai 2024 findet die zweite Altpapiersammlung des Schuljahres 2023/24 statt. \nWann?     14. – 16.05.2024      06.45 – 07.25 Uhr      14.30 – 16.30 Uhr \nWo?    Auf dem Schulhof \nDiese Beträge\, welche wir durch die Altpapiersammlung erhalten\, finanzieren auch das Sommerfest zum Teil\, also wäre es nett\, wenn Sie als Eltern\, uns auch dieses Jahr unterstützen.\nFür die Gewinnerklassen gibt es 50€\, 30€ bzw. 20€ für die Klassenkasse. \nVielen Dank für Ihre Unterstützung! 🙂 \nRichard Haubold\nstellvertretender Schülersprecher\nSchülerratsvorstand
URL:https://www.kepler-chemnitz.de/event/altpapiersammlung-auf-dem-schulhof-des-jkg/
END:VEVENT
BEGIN:VEVENT
DTSTART;TZID=Europe/Berlin:20240514T190000
DTEND;TZID=Europe/Berlin:20240514T213000
DTSTAMP:20260424T001556
CREATED:20230921T073205Z
LAST-MODIFIED:20230921T073205Z
UID:14057-1715713200-1715722200@www.kepler-chemnitz.de
SUMMARY:Elternratssitzung
DESCRIPTION:Elternratssitzung \nAlle Elternvertreterinnen und Vertreter der Klassenstufen und Kurse sind eingeladen\, sich gemeinsam über aktuelle Themen und Veranstaltungen auszutauschen. Die Schulleitung\, der Schülerrat\, die Schulsozialarbeit und der Förderverein füllen die Austauschrunde mit weiteren aktuellen Themen aus dem Schulalltag auf.
URL:https://www.kepler-chemnitz.de/event/elternratssitzung-2/
LOCATION:Johannes-Kepler-Gymnasium AULA
ATTACH;FMTTYPE=image/jpeg:https://www.kepler-chemnitz.de/wp-content/uploads/2023/09/Elternrat_iStock-946706100_KatarzynaBialasiewicz-1024x595-1.jpg
END:VEVENT
BEGIN:VEVENT
DTSTART;TZID=Europe/Berlin:20240523T170000
DTEND;TZID=Europe/Berlin:20240523T190000
DTSTAMP:20260424T001556
CREATED:20240502T200551Z
LAST-MODIFIED:20240502T200551Z
UID:15265-1716483600-1716490800@www.kepler-chemnitz.de
SUMMARY:Fördervereinssitzung
DESCRIPTION:  \n  \n 
URL:https://www.kepler-chemnitz.de/event/foerdervereinssitzung/
LOCATION:Johannes-Kepler-Gymnasium\, Deutschland
CATEGORIES:Förderverein
ATTACH;FMTTYPE=image/jpeg:https://www.kepler-chemnitz.de/wp-content/uploads/2023/09/Foerderverein_iStock-1176571518_Feodora-Chiosea-1024x594-1.jpg
END:VEVENT
BEGIN:VEVENT
DTSTART;TZID=Europe/Berlin:20240525T143000
DTEND;TZID=Europe/Berlin:20240525T170000
DTSTAMP:20260424T001556
CREATED:20240504T191455Z
LAST-MODIFIED:20240522T184912Z
UID:15274-1716647400-1716656400@www.kepler-chemnitz.de
SUMMARY:Frühlingskonzert im JKG
DESCRIPTION:Liebe Musikliebhaber\, \n\n\n\nheute musizieren der Schulchor des JKG\, das-Florian-Geyer-Ensemble e.V. und der Chor der Ehemaligen Harmonices mundi e.V. Chemnitz in unserer Aula gemeinsam – wir begrüßen den Frühling mit herzlichem Gesang und fröhlichen Tönen. \n\n\n\nSeien Sie dabei und genießen Sie die klangvolle Zeit mit uns. \n  \n\n\n\nOrt: Aula Johannes-Kepler-Gymnasium \nBeginn: 14.30 Uhr \nEintritt frei
URL:https://www.kepler-chemnitz.de/event/fruehlingskonzert-im-jkg/
CATEGORIES:Schulleben
ATTACH;FMTTYPE=image/jpeg:https://www.kepler-chemnitz.de/wp-content/uploads/2024/05/FruejahrskonzertimJKG.jpg.jpg
END:VEVENT
END:VCALENDAR