BEGIN:VCALENDAR
VERSION:2.0
PRODID:-//Johannes-Kepler-Gymnasium Chemnitz - ECPv6.15.15//NONSGML v1.0//EN
CALSCALE:GREGORIAN
METHOD:PUBLISH
X-WR-CALNAME:Johannes-Kepler-Gymnasium Chemnitz
X-ORIGINAL-URL:https://www.kepler-chemnitz.de
X-WR-CALDESC:Veranstaltungen für Johannes-Kepler-Gymnasium Chemnitz
REFRESH-INTERVAL;VALUE=DURATION:PT1H
X-Robots-Tag:noindex
X-PUBLISHED-TTL:PT1H
BEGIN:VTIMEZONE
TZID:Europe/Berlin
BEGIN:DAYLIGHT
TZOFFSETFROM:+0100
TZOFFSETTO:+0200
TZNAME:CEST
DTSTART:20230326T010000
END:DAYLIGHT
BEGIN:STANDARD
TZOFFSETFROM:+0200
TZOFFSETTO:+0100
TZNAME:CET
DTSTART:20231029T010000
END:STANDARD
BEGIN:DAYLIGHT
TZOFFSETFROM:+0100
TZOFFSETTO:+0200
TZNAME:CEST
DTSTART:20240331T010000
END:DAYLIGHT
BEGIN:STANDARD
TZOFFSETFROM:+0200
TZOFFSETTO:+0100
TZNAME:CET
DTSTART:20241027T010000
END:STANDARD
BEGIN:DAYLIGHT
TZOFFSETFROM:+0100
TZOFFSETTO:+0200
TZNAME:CEST
DTSTART:20250330T010000
END:DAYLIGHT
BEGIN:STANDARD
TZOFFSETFROM:+0200
TZOFFSETTO:+0100
TZNAME:CET
DTSTART:20251026T010000
END:STANDARD
END:VTIMEZONE
BEGIN:VEVENT
DTSTART;TZID=Europe/Berlin:20240201T170000
DTEND;TZID=Europe/Berlin:20240201T190000
DTSTAMP:20260424T042829
CREATED:20230920T194153Z
LAST-MODIFIED:20240111T073424Z
UID:14046-1706806800-1706814000@www.kepler-chemnitz.de
SUMMARY:Kepler-Stammtisch
DESCRIPTION:Liebe Eltern\, liebe Schülerinnen und Schüler\, liebe Lehrerinnen und Lehrer\, \ndie Schulleitung\, der Förderverein\, der Schüler- und der Elternrat laden alle Eltern\, LehrerInnen und SchülerInnen zum zweiten Kepler-Stammtisch im Schuljahr 2023-2024 ein. Wir möchten uns mit Ihnen/Euch über aktuelle Themen abstimmen. Der Erfahrungsaustausch soll die Vernetzung der Gremien und damit ein aktives Schulleben fördern.\nMelden Sie sich über ffjkg@kepler-chemnitz.de an\, wir freuen uns auf Ihr Kommen.\n \nSie haben eine Idee oder ein Anliegen? Teilen Sie uns Ihr Thema mit\, wir nehmen es gern in unserer Gesprächsrunde auf.
URL:https://www.kepler-chemnitz.de/event/kepler-stammtisch/
LOCATION:Johannes-Kepler-Gymnasium\, Deutschland
ATTACH;FMTTYPE=image/jpeg:https://www.kepler-chemnitz.de/wp-content/uploads/2023/09/Save-the-date_JKG_Kepler-Stammtisch_quer-neu.jpg
END:VEVENT
BEGIN:VEVENT
DTSTART;TZID=Europe/Berlin:20240203T090000
DTEND;TZID=Europe/Berlin:20240203T120000
DTSTAMP:20260424T042829
CREATED:20230920T193103Z
LAST-MODIFIED:20230920T193233Z
UID:14037-1706950800-1706961600@www.kepler-chemnitz.de
SUMMARY:Tag der offenen Tür 2024
DESCRIPTION:Liebe Neugierige\, \nunser „Tag der offenen Tür“ findet am 3. Februar 2024 statt. An diesem Samstag sind alle Türen für die Schülerinnen und Schüler der Klassenstufen 4 und ihre Familien in unserem Hause offen. Von 9:00 Uhr bis 12:00 Uhr können sich die Interessenten über Bildungsgänge am Kepler-Gymnasium informieren. Schüler\, Lehrer\, Eltern und Sozialarbeiter freuen sich auf den Besuch unserer Gäste. Sie erhalten Informationen zum naturwissenschaftlichen Profil und zur vertieft mathematisch-naturwissenschaftlichen Ausbildung. \nWir stellen uns als Kompetenzzentrum der Begabtenförderung in der Chemnitzer Region vor. Die Schulleitung und Vertreter des Lehrer-Kollegiums beraten zur Schullaufbahn mit und ohne Bildungsempfehlung für das Gymnasium. \nHerzlich willkommen.
URL:https://www.kepler-chemnitz.de/event/tag-der-offenen-tuer-2024/
LOCATION:Johannes-Kepler-Gymnasium\, Deutschland
ATTACH;FMTTYPE=image/png:https://www.kepler-chemnitz.de/wp-content/uploads/2023/09/Tag_der_offenen_tuer.png
END:VEVENT
END:VCALENDAR