BEGIN:VCALENDAR
VERSION:2.0
PRODID:-//Johannes-Kepler-Gymnasium Chemnitz - ECPv6.15.15//NONSGML v1.0//EN
CALSCALE:GREGORIAN
METHOD:PUBLISH
X-ORIGINAL-URL:https://www.kepler-chemnitz.de
X-WR-CALDESC:Veranstaltungen für Johannes-Kepler-Gymnasium Chemnitz
REFRESH-INTERVAL;VALUE=DURATION:PT1H
X-Robots-Tag:noindex
X-PUBLISHED-TTL:PT1H
BEGIN:VTIMEZONE
TZID:Europe/Berlin
BEGIN:DAYLIGHT
TZOFFSETFROM:+0100
TZOFFSETTO:+0200
TZNAME:CEST
DTSTART:20230326T010000
END:DAYLIGHT
BEGIN:STANDARD
TZOFFSETFROM:+0200
TZOFFSETTO:+0100
TZNAME:CET
DTSTART:20231029T010000
END:STANDARD
BEGIN:DAYLIGHT
TZOFFSETFROM:+0100
TZOFFSETTO:+0200
TZNAME:CEST
DTSTART:20240331T010000
END:DAYLIGHT
BEGIN:STANDARD
TZOFFSETFROM:+0200
TZOFFSETTO:+0100
TZNAME:CET
DTSTART:20241027T010000
END:STANDARD
BEGIN:DAYLIGHT
TZOFFSETFROM:+0100
TZOFFSETTO:+0200
TZNAME:CEST
DTSTART:20250330T010000
END:DAYLIGHT
BEGIN:STANDARD
TZOFFSETFROM:+0200
TZOFFSETTO:+0100
TZNAME:CET
DTSTART:20251026T010000
END:STANDARD
BEGIN:DAYLIGHT
TZOFFSETFROM:+0100
TZOFFSETTO:+0200
TZNAME:CEST
DTSTART:20260329T010000
END:DAYLIGHT
BEGIN:STANDARD
TZOFFSETFROM:+0200
TZOFFSETTO:+0100
TZNAME:CET
DTSTART:20261025T010000
END:STANDARD
END:VTIMEZONE
BEGIN:VEVENT
DTSTART;TZID=Europe/Berlin:20250612T140000
DTEND;TZID=Europe/Berlin:20250613T070000
DTSTAMP:20260420T115850
CREATED:20241006T195157Z
LAST-MODIFIED:20241009T121342Z
UID:16101-1749736800-1749798000@www.kepler-chemnitz.de
SUMMARY:Sommerfest 2025
DESCRIPTION:„Die Abschlussveranstaltung des Schuljahres 2025“\, das ist unser Sommerfest. Nach 36 langen und anstrengenden Wochen wollen wir am 12.06.2025 zusammenkommen und gemeinsam viel Spaß haben. \nErlebt ein abwechslungsreiches Programm mit großartigen Workshops und spannenden Turnieren. Lasst uns das Schuljahr gebührend abschließen und unvergessliche Momente schaffen.
URL:https://www.kepler-chemnitz.de/event/sommerfest-2025/
LOCATION:Johannes-Kepler-Gymnasium\, Deutschland
CATEGORIES:Schülerrat
END:VEVENT
BEGIN:VEVENT
DTSTART;TZID=Europe/Berlin:20250528T080000
DTEND;TZID=Europe/Berlin:20250528T130000
DTSTAMP:20260420T115850
CREATED:20241006T194803Z
LAST-MODIFIED:20241006T194803Z
UID:16098-1748419200-1748437200@www.kepler-chemnitz.de
SUMMARY:Spendenlauf
DESCRIPTION:Am Mittwoch\, 28. Mai 2025 findet der alljährliche Spendenlauf zum Erhalt des Schulclubs am Johannes-Kepler-Gymnasium statt. Dieser wird seit dem Schuljahr 2017/18 ausgetragen und füllt die Finanzierungslücke der Personalkosten des Schulclubs\, welche durch die Stadt leider nicht gedeckt werden. Die Schule und der KJF e.V. Chemnitz hofft wieder auf eine rege Teilnahme\, die Jahr für Jahr für einen Fortbestand des Schulclubs sorgt.
URL:https://www.kepler-chemnitz.de/event/spendenlauf-2/
LOCATION:Johannes-Kepler-Gymnasium\, Deutschland
CATEGORIES:Schulclub
END:VEVENT
BEGIN:VEVENT
DTSTART;TZID=Europe/Berlin:20250527T180000
DTEND;TZID=Europe/Berlin:20250527T203000
DTSTAMP:20260420T115850
CREATED:20241006T194148Z
LAST-MODIFIED:20250505T185326Z
UID:16094-1748368800-1748377800@www.kepler-chemnitz.de
SUMMARY:Informationsabend zur Berufs- und Studienorientierung Klasse 8 – 12 im JKG
DESCRIPTION:Für Schülerinnen und Schüler des JKG  \nAm 27. Mai 2025 kannst du dich von Ausbildungs- und Studieneinrichtungen (Unternehmen in und um Chemnitz\, Universitäten und Fachhochschulen\, Forschungsinstitute) zu Angeboten nach deinem Schulabschluss beraten lassen. Du kannst dich persönlich über Praktikumsplätze (Klasse 9 und 10)\, BELL-Betreuung (Klasse 11 und 12)\, Ausbildungs- und Studienmöglichkeiten sowie Aufstiegschancen informieren.  \nAuch in diesem Jahr hast du wieder die Möglichkeit\, Bewerbungsfotos vor Ort knipsen zu lassen. Denk an dein Outfit 🙂 \n  \nFür interessierte Aussteller \nSie möchten Ihr Unternehmen bei uns im Schulhaus präsentieren? Sehr gern halten wir Ihnen eine Fläche frei. Setzen Sie sich mit uns in Verbindung unter berufsmesse.kepler@kepler-chemnitz.de \nWir melden uns umgehend bei Ihnen zurück und besprechen alle Einzelheiten. \n  \nIhr Team der \nBerufs- und Studienorientierungsmesse am JKG
URL:https://www.kepler-chemnitz.de/event/informationsabend-zur-berufs-und-studienorientierung-klasse-8-12-im-jkg-2/
LOCATION:Johannes-Kepler-Gymnasium\, Deutschland
CATEGORIES:Schulleben
ATTACH;FMTTYPE=image/jpeg:https://www.kepler-chemnitz.de/wp-content/uploads/2023/09/Plakat-A3_quer.jpg
END:VEVENT
BEGIN:VEVENT
DTSTART;TZID=Europe/Berlin:20250520T190000
DTEND;TZID=Europe/Berlin:20250520T210000
DTSTAMP:20260420T115850
CREATED:20241006T192923Z
LAST-MODIFIED:20241006T192923Z
UID:16086-1747767600-1747774800@www.kepler-chemnitz.de
SUMMARY:3. Schulkonferenz
DESCRIPTION:Gewählte Vertreterinnen und Vertreter aus dem Schülerrat\, Elternrat und Lehrerrat stimmen sich zu aktuellen Themen mit dem Schulträger ab.
URL:https://www.kepler-chemnitz.de/event/3-schulkonferenz/
LOCATION:Johannes-Kepler-Gymnasium\, Deutschland
CATEGORIES:Schulleben
END:VEVENT
BEGIN:VEVENT
DTSTART;TZID=Europe/Berlin:20250506T190000
DTEND;TZID=Europe/Berlin:20250506T220000
DTSTAMP:20260420T115850
CREATED:20241006T192001Z
LAST-MODIFIED:20241006T192001Z
UID:16080-1746558000-1746568800@www.kepler-chemnitz.de
SUMMARY:3. Elternratssitzung
DESCRIPTION:Alle Elternvertreterinnen und Vertreter der Klassenstufen und Kurse sind eingeladen\, sich gemeinsam über aktuelle Themen und Veranstaltungen auszutauschen. Die Schulleitung\, der Schülerrat\, die Schulsozialarbeit und der Förderverein füllen die Austauschrunde mit weiteren aktuellen Themen aus dem Schulalltag auf.
URL:https://www.kepler-chemnitz.de/event/3-elternratssitzung/
LOCATION:Johannes-Kepler-Gymnasium AULA
CATEGORIES:Elternrat
ATTACH;FMTTYPE=image/jpeg:https://www.kepler-chemnitz.de/wp-content/uploads/2023/09/Elternrat_iStock-946706100_KatarzynaBialasiewicz-1024x595-1.jpg
END:VEVENT
BEGIN:VEVENT
DTSTART;TZID=Europe/Berlin:20250321T080000
DTEND;TZID=Europe/Berlin:20250321T130000
DTSTAMP:20260420T115850
CREATED:20241006T193810Z
LAST-MODIFIED:20241006T193810Z
UID:16092-1742544000-1742562000@www.kepler-chemnitz.de
SUMMARY:BeLL-Präsentation am JKG
DESCRIPTION:Wie in den vergangenen Schuljahren werden am Freitag\, dem 23. März 2025\, Schülerinnen und Schüler der Jahrgangsstufe 12 ihre Abschlussarbeiten im Rahmen der Besonderen Lernleistung (BeLL) öffentlich präsentieren. \nWir wünschen allen Teilnehmerinnen und Teilnehmern viel Erfolg.
URL:https://www.kepler-chemnitz.de/event/bell-praesentation-am-jkg-2/
LOCATION:Johannes-Kepler-Gymnasium\, Deutschland
END:VEVENT
BEGIN:VEVENT
DTSTART;TZID=Europe/Berlin:20250319T180000
DTEND;TZID=Europe/Berlin:20250319T210000
DTSTAMP:20260420T115850
CREATED:20241006T193453Z
LAST-MODIFIED:20241006T193622Z
UID:16090-1742407200-1742418000@www.kepler-chemnitz.de
SUMMARY:2. Elternsprechtag 2024-2025
DESCRIPTION:Alle Kepler-Eltern können zwei Wochen vor Termin über Lernsax eine Elternsprechzeit bei einer für das Kind zuständigen Lehrkraft buchen (Formular). Am Veranstaltungstag sind die Lehrkräfte ab 18 Uhr im Haus und beantworten gern Ihre Fragen.Alle Kepler-Eltern können zwei Wochen vor Termin über Lernsax eine Elternsprechzeit bei einer für das Kind zuständigen Lehrerkraft buchen (Formular). Am Veranstaltungstag sind die Lehrkräfte ab 18 Uhr im Haus und beantworten gern Ihre Fragen.
URL:https://www.kepler-chemnitz.de/event/2-elternsprechtag-2024-2025/
LOCATION:Johannes-Kepler-Gymnasium\, Deutschland
ATTACH;FMTTYPE=image/jpeg:https://www.kepler-chemnitz.de/wp-content/uploads/2023/09/talk.jpg
END:VEVENT
BEGIN:VEVENT
DTSTART;TZID=Europe/Berlin:20250201T090000
DTEND;TZID=Europe/Berlin:20250201T120000
DTSTAMP:20260420T115850
CREATED:20241006T193246Z
LAST-MODIFIED:20241006T195753Z
UID:16088-1738400400-1738411200@www.kepler-chemnitz.de
SUMMARY:Tag der offenen Tür 2025 mit RoboSax-Treffen
DESCRIPTION:Liebe Neugierige\, \nunser „Tag der offenen Tür“ findet am 1. Februar 2025 statt. An diesem Samstag sind alle Türen für die Schülerinnen und Schüler der Klassenstufen 4 und ihre Familien in unserem Hause offen. Von 9:00 Uhr bis 12:00 Uhr können sich die Interessenten über Bildungsgänge am Kepler-Gymnasium informieren. Schüler\, Lehrer\, Eltern und Sozialarbeiter freuen sich auf den Besuch unserer Gäste. Sie erhalten Informationen zum naturwissenschaftlichen Profil und zur vertieft mathematisch-naturwissenschaftlichen Ausbildung. \nWir stellen uns als Kompetenzzentrum der Begabtenförderung in der Chemnitzer Region vor. Die Schulleitung und Vertreter des Lehrer-Kollegiums beraten zur Schullaufbahn mit und ohne Bildungsempfehlung für das Gymnasium. \nHerzlich willkommen.
URL:https://www.kepler-chemnitz.de/event/tag-der-offenen-tuer-2025/
LOCATION:Johannes-Kepler-Gymnasium\, Deutschland
CATEGORIES:Schulleben
END:VEVENT
BEGIN:VEVENT
DTSTART;TZID=Europe/Berlin:20250128T190000
DTEND;TZID=Europe/Berlin:20250128T210000
DTSTAMP:20260420T115850
CREATED:20241006T192607Z
LAST-MODIFIED:20241006T192607Z
UID:16084-1738090800-1738098000@www.kepler-chemnitz.de
SUMMARY:2. Schulkonferenz
DESCRIPTION:Gewählte Vertreterinnen und Vertreter aus dem Schülerrat\, Elternrat und Lehrerrat stimmen sich zu aktuellen Themen mit dem Schulträger ab.
URL:https://www.kepler-chemnitz.de/event/2-schulkonferenz/
LOCATION:Johannes-Kepler-Gymnasium\, Deutschland
CATEGORIES:Schulleben
END:VEVENT
BEGIN:VEVENT
DTSTART;TZID=Europe/Berlin:20250114T190000
DTEND;TZID=Europe/Berlin:20250114T220000
DTSTAMP:20260420T115850
CREATED:20241006T191808Z
LAST-MODIFIED:20241006T191808Z
UID:16078-1736881200-1736892000@www.kepler-chemnitz.de
SUMMARY:2. Elternratssitzung
DESCRIPTION:Alle Elternvertreterinnen und Vertreter der Klassenstufen und Kurse sind eingeladen\, sich gemeinsam über aktuelle Themen und Veranstaltungen auszutauschen. Die Schulleitung\, der Schülerrat\, die Schulsozialarbeit und der Förderverein füllen die Austauschrunde mit weiteren aktuellen Themen aus dem Schulalltag auf.
URL:https://www.kepler-chemnitz.de/event/2-elternratssitzung/
LOCATION:Johannes-Kepler-Gymnasium AULA
CATEGORIES:Elternrat
ATTACH;FMTTYPE=image/jpeg:https://www.kepler-chemnitz.de/wp-content/uploads/2020/05/Elternrat_iStock-946706100_KatarzynaBialasiewicz-scaled.jpg
END:VEVENT
BEGIN:VEVENT
DTSTART;TZID=Europe/Berlin:20250108T150000
DTEND;TZID=Europe/Berlin:20250108T160000
DTSTAMP:20260420T115850
CREATED:20240911T163321Z
LAST-MODIFIED:20240911T163641Z
UID:15903-1736348400-1736352000@www.kepler-chemnitz.de
SUMMARY:Schülerakademie - Klassenstufe 4
DESCRIPTION:Die Schülerakademie am Johannes-Kepler-Gymnasium Chemnitz ist ein Angebot für mathematisch-naturwissenschaftlich interessierte Schülerinnen und Schüler der Klassenstufe 4. Im Rahmen von Workshops stehen spannende Themen und Experimente aus unterschiedlichen Fachbereichen auf dem Plan. Dabei lernen die Viertklässler alle Naturwissenschaften\, die Mathematik und Technik experimentell kennen. \nHeute Mathematik (Gruppe 1) und Chemie (Gruppe 2)
URL:https://www.kepler-chemnitz.de/event/schuelerakademie-klassenstufe-4-8/
LOCATION:Johannes-Kepler-Gymnasium\, Deutschland
CATEGORIES:Schulleben
ATTACH;FMTTYPE=image/jpeg:https://www.kepler-chemnitz.de/wp-content/uploads/2024/08/kepleraner_werden_iStock-1019220334_JNemchinova-1024x764-1.jpg
END:VEVENT
BEGIN:VEVENT
DTSTART;TZID=Europe/Berlin:20241213T170000
DTEND;TZID=Europe/Berlin:20241213T220000
DTSTAMP:20260420T115850
CREATED:20241006T191001Z
LAST-MODIFIED:20241006T191034Z
UID:16068-1734109200-1734127200@www.kepler-chemnitz.de
SUMMARY:JKG-Weihnachtskonzert in der St. Petrikirche in Chemnitz
DESCRIPTION:Das Konzert in der St. Petrikirche am Chemnitzer Theaterplatz ist in jedem Advent einer der Höhepunkte des Schuljahres. Bereits seit vielen Jahren gehört es zu unserer Tradition. Mit viel Mühe und Fleiß bereiten die Musik-Lehrerinnen und -Lehrer & ihre Schülerinnen und Schüler dieses Event vor. Der Förderverein stellt die Mittel zur Finanzierung der Location zur Verfügung.\nAlle Eltern\, Großeltern sowie Freunde und Förderer sind zu diesem Event herzlich eingeladen. Das erste Konzert findet jeweils um 16.30 Uhr statt\, das zweite immer um 19 Uhr. Der Eintritt ist kostenfrei.\nZur Finanzierung weiterer Projekte bitten wir Sie höflich um Spenden für unser Gymnasium. \nKartenbestellung für Kepleranerinnen & Kepleraner und ihren Familien bitte wie gewohnt innerhalb der Klasse. \n  \nFür Gäste\, welche kein Kind im Kepler-Gymnasium haben nehmen wir gern Bestellungen über ffjkg@kepler-chemnitz.de entgegen und hinterlegen gern die Karten am Einlass vor der jeweiligen Veranstaltung.
URL:https://www.kepler-chemnitz.de/event/jkg-weihnachtskonzert-in-der-st-petrikirche-in-chemnitz-2/
LOCATION:St. Petrikirche\, Theaterplatz\, Chemitz\, 09111
CATEGORIES:Schulleben
ATTACH;FMTTYPE=image/jpeg:https://www.kepler-chemnitz.de/wp-content/uploads/2022/12/Weihnachtskonzert_Marek_03_KL.jpg
END:VEVENT
BEGIN:VEVENT
DTSTART;VALUE=DATE:20241210
DTEND;VALUE=DATE:20241213
DTSTAMP:20260420T115850
CREATED:20241006T143532Z
LAST-MODIFIED:20241006T143639Z
UID:16053-1733788800-1734047999@www.kepler-chemnitz.de
SUMMARY:Altpapiersammlung - Wir knacken den Rekord
DESCRIPTION:Sehr geehrte Eltern\, liebe Schülerinnen und Schüler\,\nvom 10. – 12. Dezember 2024 findet die erste Altpapiersammlung des Schuljahres 2024/25 statt. \nWann?     10. – 12.12.2024      07:00 – 07.35 Uhr      14.30 – 16.15 Uhr \nWo?    Auf dem Schulhof \nDiese Beträge\, welche wir durch die Altpapiersammlung erhalten\, finanzieren zum Teil unser Sommerfest. Wie auch letztes Jahr wollen wir wieder die 10 Tonnen angreifen und vielleicht sogar einen neuen Rekord aufstellen.\nFür die Gewinnerklassen gibt es 50€\, 30€ bzw. 20€ für die Klassenkasse. \nVielen Dank für Ihre Unterstützung! 🙂 \nJulius Beyer
URL:https://www.kepler-chemnitz.de/event/altpapiersammlung-wir-knacken-den-rekord/
LOCATION:Schulhof JKG
CATEGORIES:Schulleben
END:VEVENT
BEGIN:VEVENT
DTSTART;TZID=Europe/Berlin:20241204T150000
DTEND;TZID=Europe/Berlin:20241204T160000
DTSTAMP:20260420T115850
CREATED:20240911T163121Z
LAST-MODIFIED:20240911T163557Z
UID:15901-1733324400-1733328000@www.kepler-chemnitz.de
SUMMARY:Schülerakademie - Klassenstufe 4
DESCRIPTION:Die Schülerakademie am Johannes-Kepler-Gymnasium Chemnitz ist ein Angebot für mathematisch-naturwissenschaftlich interessierte Schülerinnen und Schüler der Klassenstufe 4. Im Rahmen von Workshops stehen spannende Themen und Experimente aus unterschiedlichen Fachbereichen auf dem Plan. Dabei lernen die Viertklässler alle Naturwissenschaften\, die Mathematik und Technik experimentell kennen. \nHeute Chemie (Gruppe 1) und Mathematik (Gruppe 2)
URL:https://www.kepler-chemnitz.de/event/schuelerakademie-klassenstufe-4-7/
LOCATION:Johannes-Kepler-Gymnasium\, Deutschland
CATEGORIES:Schulleben
ATTACH;FMTTYPE=image/jpeg:https://www.kepler-chemnitz.de/wp-content/uploads/2024/08/kepleraner_werden_iStock-1019220334_JNemchinova-1024x764-1.jpg
END:VEVENT
BEGIN:VEVENT
DTSTART;TZID=Europe/Berlin:20241127T180000
DTEND;TZID=Europe/Berlin:20241127T210000
DTSTAMP:20260420T115850
CREATED:20241006T184622Z
LAST-MODIFIED:20241006T184622Z
UID:16066-1732730400-1732741200@www.kepler-chemnitz.de
SUMMARY:1. Elternsprechtag 2024-2025
DESCRIPTION:Alle Kepler-Eltern können zwei Wochen vor Termin über Lernsax eine Elternsprechzeit bei einer für das Kind zuständigen Lehrkraft buchen (Formular). Am Veranstaltungstag sind die Lehrkräfte ab 18 Uhr im Haus und beantworten gern Ihre Fragen.Alle Kepler-Eltern können zwei Wochen vor Termin über Lernsax eine Elternsprechzeit bei einer für das Kind zuständigen Lehrerkraft buchen (Formular). Am Veranstaltungstag sind die Lehrkräfte ab 18 Uhr im Haus und beantworten gern Ihre Fragen.
URL:https://www.kepler-chemnitz.de/event/1-elternsprechtag-2024-2025/
CATEGORIES:Schulleben
ATTACH;FMTTYPE=image/jpeg:https://www.kepler-chemnitz.de/wp-content/uploads/2023/09/talk.jpg
END:VEVENT
BEGIN:VEVENT
DTSTART;TZID=Europe/Berlin:20241122T180000
DTEND;TZID=Europe/Berlin:20241122T200000
DTSTAMP:20260420T115850
CREATED:20241019T050530Z
LAST-MODIFIED:20241019T050530Z
UID:16158-1732298400-1732305600@www.kepler-chemnitz.de
SUMMARY:Abikonzert 2024 im JKG
DESCRIPTION:Freuen Sie sich auf verschiedene musikalische und künstlerische Beiträge von Schülerinnen und Schülern unserer Schule\, geplant ist auch der Verkauf eines Kalenders mit Druckgrafiken des Kunstkurses. Der Eintritt ist frei\, gefällt das Konzert\, können Sie gern für unseren Abiball spenden. \nWir freuen uns auf Ihren Besuch\nIhre Jahrgangsstufe 12
URL:https://www.kepler-chemnitz.de/event/abikonzert-2024-im-jkg/
LOCATION:Johannes-Kepler-Gymnasium AULA
ATTACH;FMTTYPE=image/jpeg:https://www.kepler-chemnitz.de/wp-content/uploads/2024/10/Abikonzert_2024_kl.jpg
END:VEVENT
BEGIN:VEVENT
DTSTART;TZID=Europe/Berlin:20241114T170000
DTEND;TZID=Europe/Berlin:20241114T190000
DTSTAMP:20260420T115850
CREATED:20241006T150223Z
LAST-MODIFIED:20241006T150223Z
UID:16056-1731603600-1731610800@www.kepler-chemnitz.de
SUMMARY:Kepler-Stammtisch
DESCRIPTION:Liebe Eltern\, liebe Schülerinnen und Schüler\, liebe Lehrerinnen und Lehrer\, \ndie Schulleitung\, der Förderverein\, der Schüler- und der Elternrat laden alle Eltern\, LehrerInnen und SchülerInnen zum ersten Kepler-Stammtisch im Schuljahr 2024-2025 ein. Wir möchten uns mit Ihnen/Euch über aktuelle Themen abstimmen. Der Erfahrungsaustausch soll die Vernetzung der Gremien und damit ein aktives Schulleben fördern.\nMelden Sie sich über ffjkg@kepler-chemnitz.de an\, wir freuen uns auf Ihr Kommen.\n \nSie haben eine Idee oder ein Anliegen? Teilen Sie uns Ihr Thema mit\, wir nehmen es gern in unserer Gesprächsrunde auf.
URL:https://www.kepler-chemnitz.de/event/kepler-stammtisch-2/
LOCATION:Johannes-Kepler-Gymnasium\, Deutschland
CATEGORIES:Schulleben
END:VEVENT
BEGIN:VEVENT
DTSTART;TZID=Europe/Berlin:20241106T150000
DTEND;TZID=Europe/Berlin:20241106T160000
DTSTAMP:20260420T115850
CREATED:20240911T162845Z
LAST-MODIFIED:20240911T163508Z
UID:15899-1730905200-1730908800@www.kepler-chemnitz.de
SUMMARY:Schülerakademie - Klassenstufe 4
DESCRIPTION:Die Schülerakademie am Johannes-Kepler-Gymnasium Chemnitz ist ein Angebot für mathematisch-naturwissenschaftlich interessierte Schülerinnen und Schüler der Klassenstufe 4. Im Rahmen von Workshops stehen spannende Themen und Experimente aus unterschiedlichen Fachbereichen auf dem Plan. Dabei lernen die Viertklässler alle Naturwissenschaften\, die Mathematik und Technik experimentell kennen. \nHeute Physik (Gruppe 1) und Biologie (Gruppe 2)
URL:https://www.kepler-chemnitz.de/event/schuelerakademie-klassenstufe-4-6/
LOCATION:Johannes-Kepler-Gymnasium\, Deutschland
CATEGORIES:Schulleben
ATTACH;FMTTYPE=image/jpeg:https://www.kepler-chemnitz.de/wp-content/uploads/2024/08/kepleraner_werden_iStock-1019220334_JNemchinova-1024x764-1.jpg
END:VEVENT
BEGIN:VEVENT
DTSTART;TZID=Europe/Berlin:20241023T180000
DTEND;TZID=Europe/Berlin:20241023T200000
DTSTAMP:20260420T115850
CREATED:20241006T150954Z
LAST-MODIFIED:20241006T195655Z
UID:16058-1729706400-1729713600@www.kepler-chemnitz.de
SUMMARY:Mitgliederversammlung FFJKG
DESCRIPTION:Liebe Fördervereinsmitglieder\, \nunsere jährliche Mitgliederversammlung findet am 23. Okober 2024 im JKG statt. Wir laden Sie recht herzlich ein. Nehmen Sie teil\, entscheiden Sie mit.\nWir präsentieren unseren Finanz- und Tätigkeitsbericht\, verabschieden gemeinsam die Budgetplanung 2024-2025 und beantworten gern Ihre Fragen und Anliegen.\n \nDer Versammlungsraum vor Ort wird am Abend im Eingangsbereich des Gymnasiums bekannt gegeben. \n 
URL:https://www.kepler-chemnitz.de/event/mitgliederversammlung-ffjkg-2/
LOCATION:Johannes-Kepler-Gymnasium\, Deutschland
CATEGORIES:Förderverein
END:VEVENT
BEGIN:VEVENT
DTSTART;TZID=Europe/Berlin:20241023T150000
DTEND;TZID=Europe/Berlin:20241023T160000
DTSTAMP:20260420T115850
CREATED:20240911T161413Z
LAST-MODIFIED:20240911T163403Z
UID:15897-1729695600-1729699200@www.kepler-chemnitz.de
SUMMARY:Schülerakademie - Klassenstufe 4
DESCRIPTION:Die Schülerakademie am Johannes-Kepler-Gymnasium Chemnitz ist ein Angebot für mathematisch-naturwissenschaftlich interessierte Schülerinnen und Schüler der Klassenstufe 4. Im Rahmen von Workshops stehen spannende Themen und Experimente aus unterschiedlichen Fachbereichen auf dem Plan. Dabei lernen die Viertklässler alle Naturwissenschaften\, die Mathematik und Technik experimentell kennen. \nHeute Biologie (Gruppe 1) und Physik (Gruppe 2)
URL:https://www.kepler-chemnitz.de/event/schuelerakademie-klassenstufe-4-5/
LOCATION:Johannes-Kepler-Gymnasium\, Deutschland
CATEGORIES:Schulleben
ATTACH;FMTTYPE=image/jpeg:https://www.kepler-chemnitz.de/wp-content/uploads/2024/08/kepleraner_werden_iStock-1019220334_JNemchinova-1024x764-1.jpg
END:VEVENT
BEGIN:VEVENT
DTSTART;TZID=Europe/Berlin:20240921T080000
DTEND;TZID=Europe/Berlin:20240921T120000
DTSTAMP:20260420T115850
CREATED:20241006T184037Z
LAST-MODIFIED:20241006T184956Z
UID:16064-1726905600-1726920000@www.kepler-chemnitz.de
SUMMARY:Tag der jungen Wissenschaftler
DESCRIPTION:Liebe Schülerin\, lieber Schüler der vierten Klassen\, \nam Tag der jungen Wissenschaftler hast du Gelegenheit dazu\, unser Gymnasium kennen zu lernen. Dazu laden wir dich und deine Eltern herzlich in unsere Schule am Humboldtplatz 1 ein. Von 8.30 bis 9.15 Uhr kannst du dich bei uns anmelden. Nach der Begrüßung um 9.15 Uhr gibt es ein Quiz für dich. Knifflige Knobeleien und spannende Aufgaben aus Wissenschaft und Technik erwarten dich. Deine Eltern erfahren in dieser Zeit in der Aula vom Schulleiter das Wichtigste über die Ausbildung an unserem Gymnasium\, besonders im vertieft mathematisch-naturwissenschaftlichen Profil. Auch für deine kleinen Geschwister gibt es bei uns ein Zimmer\, in dem sie malen und spielen können\, damit du dich mit deinen Eltern in Ruhe bei uns informieren kannst. Gegen 12.00 Uhr werden die besten Schülerinnen und Schüler mit kleinen Preisen ausgezeichnet.\nWir freuen uns auf dich und deine Familie
URL:https://www.kepler-chemnitz.de/event/tag-der-jungen-wissenschaftler-2/
CATEGORIES:Schulleben
ATTACH;FMTTYPE=image/jpeg:https://www.kepler-chemnitz.de/wp-content/uploads/2020/03/TaTuer_2020_DSC06052.jpg
END:VEVENT
BEGIN:VEVENT
DTSTART;TZID=Europe/Berlin:20240903T190000
DTEND;TZID=Europe/Berlin:20240903T210000
DTSTAMP:20260420T115850
CREATED:20241006T192432Z
LAST-MODIFIED:20241006T192432Z
UID:16082-1725390000-1725397200@www.kepler-chemnitz.de
SUMMARY:1. Schulkonferenz
DESCRIPTION:Gewählte Vertreterinnen und Vertreter aus dem Schülerrat\, Elternrat und Lehrerrat stimmen sich zu aktuellen Themen mit dem Schulträger ab.
URL:https://www.kepler-chemnitz.de/event/1-schulkonferenz/
LOCATION:Johannes-Kepler-Gymnasium\, Deutschland
CATEGORIES:Schulleben
END:VEVENT
BEGIN:VEVENT
DTSTART;TZID=Europe/Berlin:20240827T190000
DTEND;TZID=Europe/Berlin:20240827T220000
DTSTAMP:20260420T115850
CREATED:20241006T191423Z
LAST-MODIFIED:20241006T191614Z
UID:16074-1724785200-1724796000@www.kepler-chemnitz.de
SUMMARY:1. Elternratssitzung
DESCRIPTION:Elternratssitzung \nAlle Elternvertreterinnen und Vertreter der Klassenstufen und Kurse sind eingeladen\, sich gemeinsam über aktuelle Themen und Veranstaltungen auszutauschen. Die Schulleitung\, der Schülerrat\, die Schulsozialarbeit und der Förderverein füllen die Austauschrunde mit weiteren aktuellen Themen aus dem Schulalltag auf.
URL:https://www.kepler-chemnitz.de/event/1-elternratssitzung/
LOCATION:Johannes-Kepler-Gymnasium AULA
CATEGORIES:Elternrat
ATTACH;FMTTYPE=image/jpeg:https://www.kepler-chemnitz.de/wp-content/uploads/2020/05/Elternrat_iStock-946706100_KatarzynaBialasiewicz-scaled.jpg
END:VEVENT
BEGIN:VEVENT
DTSTART;TZID=Europe/Berlin:20240611T190000
DTEND;TZID=Europe/Berlin:20240611T210000
DTSTAMP:20260420T115850
CREATED:20230921T105459Z
LAST-MODIFIED:20240122T091901Z
UID:14061-1718132400-1718139600@www.kepler-chemnitz.de
SUMMARY:Schulkonferenz
DESCRIPTION:Gewählte Vertreterinnen und Vertreter aus dem Schülerrat\, Elternrat und Lehrerrat stimmen sich zu aktuellen Themen mit dem Schulträger ab.
URL:https://www.kepler-chemnitz.de/event/schulkonferenz-2/
LOCATION:Johannes-Kepler-Gymnasium\, Deutschland
END:VEVENT
BEGIN:VEVENT
DTSTART;TZID=Europe/Berlin:20240606T143000
DTEND;TZID=Europe/Berlin:20240606T220000
DTSTAMP:20260420T115850
CREATED:20240526T160558Z
LAST-MODIFIED:20240526T160558Z
UID:15382-1717684200-1717711200@www.kepler-chemnitz.de
SUMMARY:Sommerfest 2024
DESCRIPTION:„Die Abschlussveranstaltung des Schuljahres 2024“\, das ist unser Sommerfest. Nach 36 langen und anstrengenden Wochen wollen wir am 06.06.2024 zusammenkommen und gemeinsam viel Spaß haben. \nErlebt ein abwechslungsreiches Programm mit großartigen Workshops und spannenden Turnieren. Lasst uns das Schuljahr gebührend abschließen und unvergessliche Momente schaffen.
URL:https://www.kepler-chemnitz.de/event/sommerfest-2024/
LOCATION:Johannes-Kepler-Gymnasium\, Deutschland
CATEGORIES:Schülerrat
END:VEVENT
BEGIN:VEVENT
DTSTART;TZID=Europe/Berlin:20240525T143000
DTEND;TZID=Europe/Berlin:20240525T170000
DTSTAMP:20260420T115850
CREATED:20240504T191455Z
LAST-MODIFIED:20240522T184912Z
UID:15274-1716647400-1716656400@www.kepler-chemnitz.de
SUMMARY:Frühlingskonzert im JKG
DESCRIPTION:Liebe Musikliebhaber\, \n\n\n\nheute musizieren der Schulchor des JKG\, das-Florian-Geyer-Ensemble e.V. und der Chor der Ehemaligen Harmonices mundi e.V. Chemnitz in unserer Aula gemeinsam – wir begrüßen den Frühling mit herzlichem Gesang und fröhlichen Tönen. \n\n\n\nSeien Sie dabei und genießen Sie die klangvolle Zeit mit uns. \n  \n\n\n\nOrt: Aula Johannes-Kepler-Gymnasium \nBeginn: 14.30 Uhr \nEintritt frei
URL:https://www.kepler-chemnitz.de/event/fruehlingskonzert-im-jkg/
CATEGORIES:Schulleben
ATTACH;FMTTYPE=image/jpeg:https://www.kepler-chemnitz.de/wp-content/uploads/2024/05/FruejahrskonzertimJKG.jpg.jpg
END:VEVENT
BEGIN:VEVENT
DTSTART;TZID=Europe/Berlin:20240523T170000
DTEND;TZID=Europe/Berlin:20240523T190000
DTSTAMP:20260420T115850
CREATED:20240502T200551Z
LAST-MODIFIED:20240502T200551Z
UID:15265-1716483600-1716490800@www.kepler-chemnitz.de
SUMMARY:Fördervereinssitzung
DESCRIPTION:  \n  \n 
URL:https://www.kepler-chemnitz.de/event/foerdervereinssitzung/
LOCATION:Johannes-Kepler-Gymnasium\, Deutschland
CATEGORIES:Förderverein
ATTACH;FMTTYPE=image/jpeg:https://www.kepler-chemnitz.de/wp-content/uploads/2023/09/Foerderverein_iStock-1176571518_Feodora-Chiosea-1024x594-1.jpg
END:VEVENT
BEGIN:VEVENT
DTSTART;TZID=Europe/Berlin:20240514T190000
DTEND;TZID=Europe/Berlin:20240514T213000
DTSTAMP:20260420T115850
CREATED:20230921T073205Z
LAST-MODIFIED:20230921T073205Z
UID:14057-1715713200-1715722200@www.kepler-chemnitz.de
SUMMARY:Elternratssitzung
DESCRIPTION:Elternratssitzung \nAlle Elternvertreterinnen und Vertreter der Klassenstufen und Kurse sind eingeladen\, sich gemeinsam über aktuelle Themen und Veranstaltungen auszutauschen. Die Schulleitung\, der Schülerrat\, die Schulsozialarbeit und der Förderverein füllen die Austauschrunde mit weiteren aktuellen Themen aus dem Schulalltag auf.
URL:https://www.kepler-chemnitz.de/event/elternratssitzung-2/
LOCATION:Johannes-Kepler-Gymnasium AULA
ATTACH;FMTTYPE=image/jpeg:https://www.kepler-chemnitz.de/wp-content/uploads/2023/09/Elternrat_iStock-946706100_KatarzynaBialasiewicz-1024x595-1.jpg
END:VEVENT
BEGIN:VEVENT
DTSTART;VALUE=DATE:20240514
DTEND;VALUE=DATE:20240517
DTSTAMP:20260420T115850
CREATED:20240314T112857Z
LAST-MODIFIED:20240314T113324Z
UID:15124-1715644800-1715903999@www.kepler-chemnitz.de
SUMMARY:Altpapiersammlung auf dem Schulhof des JKG
DESCRIPTION:Sehr geehrte Eltern\, liebe Schülerinnen und Schüler\,\nvom 14. – 16. Mai 2024 findet die zweite Altpapiersammlung des Schuljahres 2023/24 statt. \nWann?     14. – 16.05.2024      06.45 – 07.25 Uhr      14.30 – 16.30 Uhr \nWo?    Auf dem Schulhof \nDiese Beträge\, welche wir durch die Altpapiersammlung erhalten\, finanzieren auch das Sommerfest zum Teil\, also wäre es nett\, wenn Sie als Eltern\, uns auch dieses Jahr unterstützen.\nFür die Gewinnerklassen gibt es 50€\, 30€ bzw. 20€ für die Klassenkasse. \nVielen Dank für Ihre Unterstützung! 🙂 \nRichard Haubold\nstellvertretender Schülersprecher\nSchülerratsvorstand
URL:https://www.kepler-chemnitz.de/event/altpapiersammlung-auf-dem-schulhof-des-jkg/
END:VEVENT
BEGIN:VEVENT
DTSTART;TZID=Europe/Berlin:20240508T103000
DTEND;TZID=Europe/Berlin:20240508T144500
DTSTAMP:20260420T115850
CREATED:20230925T182026Z
LAST-MODIFIED:20241006T194754Z
UID:14132-1715164200-1715179500@www.kepler-chemnitz.de
SUMMARY:Spendenlauf
DESCRIPTION:Am Mittwoch\, 08. Mai 2024 findet der alljährliche Spendenlauf zum Erhalt des Schulclubs am Johannes-Kepler-Gymnasium statt. Dieser wird seit dem Schuljahr 2017/18 ausgetragen und füllt die Finanzierungslücke der Personalkosten des Schulclubs\, welche durch die Stadt leider nicht gedeckt werden. Die Schule und der KJF e.V. Chemnitz hofft wieder auf eine rege Teilnahme\, die Jahr für Jahr für einen Fortbestand des Schulclubs sorgt.
URL:https://www.kepler-chemnitz.de/event/spendenlauf/
LOCATION:Johannes-Kepler-Gymnasium\, Deutschland
ATTACH;FMTTYPE=image/jpeg:https://www.kepler-chemnitz.de/wp-content/uploads/2024/04/Plakat-Spendenlauf-20242961.jpg
END:VEVENT
END:VCALENDAR