BEGIN:VCALENDAR
VERSION:2.0
PRODID:-//Johannes-Kepler-Gymnasium Chemnitz - ECPv6.15.15//NONSGML v1.0//EN
CALSCALE:GREGORIAN
METHOD:PUBLISH
X-WR-CALNAME:Johannes-Kepler-Gymnasium Chemnitz
X-ORIGINAL-URL:https://www.kepler-chemnitz.de
X-WR-CALDESC:Veranstaltungen für Johannes-Kepler-Gymnasium Chemnitz
REFRESH-INTERVAL;VALUE=DURATION:PT1H
X-Robots-Tag:noindex
X-PUBLISHED-TTL:PT1H
BEGIN:VTIMEZONE
TZID:Europe/Berlin
BEGIN:DAYLIGHT
TZOFFSETFROM:+0100
TZOFFSETTO:+0200
TZNAME:CEST
DTSTART:20230326T010000
END:DAYLIGHT
BEGIN:STANDARD
TZOFFSETFROM:+0200
TZOFFSETTO:+0100
TZNAME:CET
DTSTART:20231029T010000
END:STANDARD
BEGIN:DAYLIGHT
TZOFFSETFROM:+0100
TZOFFSETTO:+0200
TZNAME:CEST
DTSTART:20240331T010000
END:DAYLIGHT
BEGIN:STANDARD
TZOFFSETFROM:+0200
TZOFFSETTO:+0100
TZNAME:CET
DTSTART:20241027T010000
END:STANDARD
BEGIN:DAYLIGHT
TZOFFSETFROM:+0100
TZOFFSETTO:+0200
TZNAME:CEST
DTSTART:20250330T010000
END:DAYLIGHT
BEGIN:STANDARD
TZOFFSETFROM:+0200
TZOFFSETTO:+0100
TZNAME:CET
DTSTART:20251026T010000
END:STANDARD
END:VTIMEZONE
BEGIN:VEVENT
DTSTART;TZID=Europe/Berlin:20240921T080000
DTEND;TZID=Europe/Berlin:20240921T120000
DTSTAMP:20260423T201557
CREATED:20241006T184037Z
LAST-MODIFIED:20241006T184956Z
UID:16064-1726905600-1726920000@www.kepler-chemnitz.de
SUMMARY:Tag der jungen Wissenschaftler
DESCRIPTION:Liebe Schülerin\, lieber Schüler der vierten Klassen\, \nam Tag der jungen Wissenschaftler hast du Gelegenheit dazu\, unser Gymnasium kennen zu lernen. Dazu laden wir dich und deine Eltern herzlich in unsere Schule am Humboldtplatz 1 ein. Von 8.30 bis 9.15 Uhr kannst du dich bei uns anmelden. Nach der Begrüßung um 9.15 Uhr gibt es ein Quiz für dich. Knifflige Knobeleien und spannende Aufgaben aus Wissenschaft und Technik erwarten dich. Deine Eltern erfahren in dieser Zeit in der Aula vom Schulleiter das Wichtigste über die Ausbildung an unserem Gymnasium\, besonders im vertieft mathematisch-naturwissenschaftlichen Profil. Auch für deine kleinen Geschwister gibt es bei uns ein Zimmer\, in dem sie malen und spielen können\, damit du dich mit deinen Eltern in Ruhe bei uns informieren kannst. Gegen 12.00 Uhr werden die besten Schülerinnen und Schüler mit kleinen Preisen ausgezeichnet.\nWir freuen uns auf dich und deine Familie
URL:https://www.kepler-chemnitz.de/event/tag-der-jungen-wissenschaftler-2/
CATEGORIES:Schulleben
ATTACH;FMTTYPE=image/jpeg:https://www.kepler-chemnitz.de/wp-content/uploads/2020/03/TaTuer_2020_DSC06052.jpg
END:VEVENT
END:VCALENDAR