BEGIN:VCALENDAR
VERSION:2.0
PRODID:-//Johannes-Kepler-Gymnasium Chemnitz - ECPv6.15.15//NONSGML v1.0//EN
CALSCALE:GREGORIAN
METHOD:PUBLISH
X-ORIGINAL-URL:https://www.kepler-chemnitz.de
X-WR-CALDESC:Veranstaltungen für Johannes-Kepler-Gymnasium Chemnitz
REFRESH-INTERVAL;VALUE=DURATION:PT1H
X-Robots-Tag:noindex
X-PUBLISHED-TTL:PT1H
BEGIN:VTIMEZONE
TZID:Europe/Berlin
BEGIN:DAYLIGHT
TZOFFSETFROM:+0100
TZOFFSETTO:+0200
TZNAME:CEST
DTSTART:20230326T010000
END:DAYLIGHT
BEGIN:STANDARD
TZOFFSETFROM:+0200
TZOFFSETTO:+0100
TZNAME:CET
DTSTART:20231029T010000
END:STANDARD
BEGIN:DAYLIGHT
TZOFFSETFROM:+0100
TZOFFSETTO:+0200
TZNAME:CEST
DTSTART:20240331T010000
END:DAYLIGHT
BEGIN:STANDARD
TZOFFSETFROM:+0200
TZOFFSETTO:+0100
TZNAME:CET
DTSTART:20241027T010000
END:STANDARD
BEGIN:DAYLIGHT
TZOFFSETFROM:+0100
TZOFFSETTO:+0200
TZNAME:CEST
DTSTART:20250330T010000
END:DAYLIGHT
BEGIN:STANDARD
TZOFFSETFROM:+0200
TZOFFSETTO:+0100
TZNAME:CET
DTSTART:20251026T010000
END:STANDARD
END:VTIMEZONE
BEGIN:VEVENT
DTSTART;TZID=Europe/Berlin:20240322T080000
DTEND;TZID=Europe/Berlin:20240322T124500
DTSTAMP:20260424T042911
CREATED:20240227T161805Z
LAST-MODIFIED:20240227T161819Z
UID:15029-1711094400-1711111500@www.kepler-chemnitz.de
SUMMARY:BeLL-Präsentation am JKG
DESCRIPTION:Wie in den vergangenen Schuljahren werden am Freitag\, dem 22. März 2024\, Schüler der Jahrgangsstufe 12 ihre Abschlussarbeiten im Rahmen der Besonderen Lernleistung (BeLL) öffentlich präsentieren. \nWir wünschen allen teilnehmenden Schülerinnen und Schülern viel Erfolg. \n  \nMehr erfahren Sie hier
URL:https://www.kepler-chemnitz.de/event/bell-praesentation-am-jkg/
END:VEVENT
END:VCALENDAR