BEGIN:VCALENDAR
VERSION:2.0
PRODID:-//Johannes-Kepler-Gymnasium Chemnitz - ECPv6.15.15//NONSGML v1.0//EN
CALSCALE:GREGORIAN
METHOD:PUBLISH
X-ORIGINAL-URL:https://www.kepler-chemnitz.de
X-WR-CALDESC:Veranstaltungen für Johannes-Kepler-Gymnasium Chemnitz
REFRESH-INTERVAL;VALUE=DURATION:PT1H
X-Robots-Tag:noindex
X-PUBLISHED-TTL:PT1H
BEGIN:VTIMEZONE
TZID:Europe/Berlin
BEGIN:DAYLIGHT
TZOFFSETFROM:+0100
TZOFFSETTO:+0200
TZNAME:CEST
DTSTART:20230326T010000
END:DAYLIGHT
BEGIN:STANDARD
TZOFFSETFROM:+0200
TZOFFSETTO:+0100
TZNAME:CET
DTSTART:20231029T010000
END:STANDARD
BEGIN:DAYLIGHT
TZOFFSETFROM:+0100
TZOFFSETTO:+0200
TZNAME:CEST
DTSTART:20240331T010000
END:DAYLIGHT
BEGIN:STANDARD
TZOFFSETFROM:+0200
TZOFFSETTO:+0100
TZNAME:CET
DTSTART:20241027T010000
END:STANDARD
BEGIN:DAYLIGHT
TZOFFSETFROM:+0100
TZOFFSETTO:+0200
TZNAME:CEST
DTSTART:20250330T010000
END:DAYLIGHT
BEGIN:STANDARD
TZOFFSETFROM:+0200
TZOFFSETTO:+0100
TZNAME:CET
DTSTART:20251026T010000
END:STANDARD
END:VTIMEZONE
BEGIN:VEVENT
DTSTART;TZID=Europe/Berlin:20240110T150000
DTEND;TZID=Europe/Berlin:20240110T160000
DTSTAMP:20260424T065123
CREATED:20230924T094527Z
LAST-MODIFIED:20230924T094527Z
UID:14114-1704898800-1704902400@www.kepler-chemnitz.de
SUMMARY:Schülerakademie - Klassenstufe 4
DESCRIPTION:Die Schülerakademie am Johannes-Kepler-Gymnasium Chemnitz ist ein Angebot für mathematisch-naturwissenschaftlich interessierte Schülerinnen und Schüler der Klassenstufe 4. Im Rahmen von Workshops stehen spannende Themen und Experimente aus unterschiedlichen Fachbereichen auf dem Plan. Dabei lernen die Viertklässler alle Naturwissenschaften\, die Mathematik und Technik experimentell kennen. \nHeute Chemie und Mathematik in 2 Gruppen
URL:https://www.kepler-chemnitz.de/event/schuelerakademie-klassenstufe-4-4/
LOCATION:Johannes-Kepler-Gymnasium\, Deutschland
ATTACH;FMTTYPE=image/jpeg:https://www.kepler-chemnitz.de/wp-content/uploads/2023/09/kepleraner_werden_iStock-1019220334_JNemchinova-1024x764-1.jpg
END:VEVENT
END:VCALENDAR