BEGIN:VCALENDAR
VERSION:2.0
PRODID:-//Johannes-Kepler-Gymnasium Chemnitz - ECPv6.15.15//NONSGML v1.0//EN
CALSCALE:GREGORIAN
METHOD:PUBLISH
X-WR-CALNAME:Johannes-Kepler-Gymnasium Chemnitz
X-ORIGINAL-URL:https://www.kepler-chemnitz.de
X-WR-CALDESC:Veranstaltungen für Johannes-Kepler-Gymnasium Chemnitz
REFRESH-INTERVAL;VALUE=DURATION:PT1H
X-Robots-Tag:noindex
X-PUBLISHED-TTL:PT1H
BEGIN:VTIMEZONE
TZID:Europe/Berlin
BEGIN:DAYLIGHT
TZOFFSETFROM:+0100
TZOFFSETTO:+0200
TZNAME:CEST
DTSTART:20220327T010000
END:DAYLIGHT
BEGIN:STANDARD
TZOFFSETFROM:+0200
TZOFFSETTO:+0100
TZNAME:CET
DTSTART:20221030T010000
END:STANDARD
BEGIN:DAYLIGHT
TZOFFSETFROM:+0100
TZOFFSETTO:+0200
TZNAME:CEST
DTSTART:20230326T010000
END:DAYLIGHT
BEGIN:STANDARD
TZOFFSETFROM:+0200
TZOFFSETTO:+0100
TZNAME:CET
DTSTART:20231029T010000
END:STANDARD
BEGIN:DAYLIGHT
TZOFFSETFROM:+0100
TZOFFSETTO:+0200
TZNAME:CEST
DTSTART:20240331T010000
END:DAYLIGHT
BEGIN:STANDARD
TZOFFSETFROM:+0200
TZOFFSETTO:+0100
TZNAME:CET
DTSTART:20241027T010000
END:STANDARD
END:VTIMEZONE
BEGIN:VEVENT
DTSTART;TZID=Europe/Berlin:20231215T163000
DTEND;TZID=Europe/Berlin:20231215T210000
DTSTAMP:20260424T080236
CREATED:20230919T193531Z
LAST-MODIFIED:20231127T133255Z
UID:13977-1702657800-1702674000@www.kepler-chemnitz.de
SUMMARY:JKG-Weihnachtskonzert in der St. Petrikirche in Chemnitz
DESCRIPTION:Das Konzert in der St. Petrikirche am Chemnitzer Theaterplatz ist in jedem Advent einer der Höhepunkte des Schuljahres. Bereits seit vielen Jahren gehört es zu unserer Tradition. Mit viel Mühe und Fleiß bereiten die MusikLehrerinnen und Lehrer & ihre Schülerinnen und Schüler dieses Event vor. Der Förderverein stellt die Mittel zur Finanzierung der Location zur Verfügung.\nAlle Eltern\, Großeltern sowie Freunde und Förderer sind zu diesem Event herzlich eingeladen. Das erste Konzert findet jeweils um 16.30 Uhr statt\, das zweite immer um 19 Uhr. Der Eintritt ist kostenfrei.\nZur Finanzierung weiterer Projekte bitten wir Sie höflich um Spenden für unser Gymnasium. \nKartenbestellung gern über ffjkg@kepler-chemnitz.de \nFür Gäste\, welche kein Kind im Kepler-Gymnasium haben\, hinterlegen wir gern die Karten am Einlass vor der jeweiligen Veranstaltung.
URL:https://www.kepler-chemnitz.de/event/jkg-weihnachtskonzert-in-der-st-petrikirche-in-chemnitz/
LOCATION:St. Petrikirche\, Theaterplatz\, Chemitz\, 09111
ATTACH;FMTTYPE=image/jpeg:https://www.kepler-chemnitz.de/wp-content/uploads/2022/12/Weihnachtskonzert_Marek_01_kl.jpg
END:VEVENT
END:VCALENDAR