BEGIN:VCALENDAR
VERSION:2.0
PRODID:-//Johannes-Kepler-Gymnasium Chemnitz - ECPv6.15.15//NONSGML v1.0//EN
CALSCALE:GREGORIAN
METHOD:PUBLISH
X-ORIGINAL-URL:https://www.kepler-chemnitz.de
X-WR-CALDESC:Veranstaltungen für Johannes-Kepler-Gymnasium Chemnitz
REFRESH-INTERVAL;VALUE=DURATION:PT1H
X-Robots-Tag:noindex
X-PUBLISHED-TTL:PT1H
BEGIN:VTIMEZONE
TZID:Europe/Berlin
BEGIN:DAYLIGHT
TZOFFSETFROM:+0100
TZOFFSETTO:+0200
TZNAME:CEST
DTSTART:20220327T010000
END:DAYLIGHT
BEGIN:STANDARD
TZOFFSETFROM:+0200
TZOFFSETTO:+0100
TZNAME:CET
DTSTART:20221030T010000
END:STANDARD
BEGIN:DAYLIGHT
TZOFFSETFROM:+0100
TZOFFSETTO:+0200
TZNAME:CEST
DTSTART:20230326T010000
END:DAYLIGHT
BEGIN:STANDARD
TZOFFSETFROM:+0200
TZOFFSETTO:+0100
TZNAME:CET
DTSTART:20231029T010000
END:STANDARD
BEGIN:DAYLIGHT
TZOFFSETFROM:+0100
TZOFFSETTO:+0200
TZNAME:CEST
DTSTART:20240331T010000
END:DAYLIGHT
BEGIN:STANDARD
TZOFFSETFROM:+0200
TZOFFSETTO:+0100
TZNAME:CET
DTSTART:20241027T010000
END:STANDARD
END:VTIMEZONE
BEGIN:VEVENT
DTSTART;TZID=Europe/Berlin:20231129T150000
DTEND;TZID=Europe/Berlin:20231129T160000
DTSTAMP:20260424T080333
CREATED:20230924T094403Z
LAST-MODIFIED:20230924T094403Z
UID:14112-1701270000-1701273600@www.kepler-chemnitz.de
SUMMARY:Schülerakademie - Klassenstufe 4
DESCRIPTION:Die Schülerakademie am Johannes-Kepler-Gymnasium Chemnitz ist ein Angebot für mathematisch-naturwissenschaftlich interessierte Schülerinnen und Schüler der Klassenstufe 4. Im Rahmen von Workshops stehen spannende Themen und Experimente aus unterschiedlichen Fachbereichen auf dem Plan. Dabei lernen die Viertklässler alle Naturwissenschaften\, die Mathematik und Technik experimentell kennen. \nHeute Chemie und Mathematik in 2 Gruppen
URL:https://www.kepler-chemnitz.de/event/schuelerakademie-klassenstufe-4-3/
LOCATION:Johannes-Kepler-Gymnasium\, Deutschland
ATTACH;FMTTYPE=image/jpeg:https://www.kepler-chemnitz.de/wp-content/uploads/2023/09/kepleraner_werden_iStock-1019220334_JNemchinova-1024x764-1.jpg
END:VEVENT
BEGIN:VEVENT
DTSTART;TZID=Europe/Berlin:20231129T180000
DTEND;TZID=Europe/Berlin:20231129T210000
DTSTAMP:20260424T080333
CREATED:20230919T191843Z
LAST-MODIFIED:20230919T194030Z
UID:13969-1701280800-1701291600@www.kepler-chemnitz.de
SUMMARY:Elternsprechtag
DESCRIPTION:Alle Kepler-Eltern können zwei Wochen vor Termin über Lernsax eine Elternsprechzeit bei einer für das Kind zuständigen Lehrerkraft buchen (Formular). Am Veranstaltungstag sind die Lehrkräfte ab 18 Uhr im Haus und beantworten gern Ihre Fragen.
URL:https://www.kepler-chemnitz.de/event/elternsprechtag/
LOCATION:Johannes-Kepler-Gymnasium\, Deutschland
ATTACH;FMTTYPE=image/jpeg:https://www.kepler-chemnitz.de/wp-content/uploads/2023/09/talk.jpg
END:VEVENT
END:VCALENDAR