BEGIN:VCALENDAR
VERSION:2.0
PRODID:-//Johannes-Kepler-Gymnasium Chemnitz - ECPv6.15.15//NONSGML v1.0//EN
CALSCALE:GREGORIAN
METHOD:PUBLISH
X-ORIGINAL-URL:https://www.kepler-chemnitz.de
X-WR-CALDESC:Veranstaltungen für Johannes-Kepler-Gymnasium Chemnitz
REFRESH-INTERVAL;VALUE=DURATION:PT1H
X-Robots-Tag:noindex
X-PUBLISHED-TTL:PT1H
BEGIN:VTIMEZONE
TZID:Europe/Berlin
BEGIN:DAYLIGHT
TZOFFSETFROM:+0100
TZOFFSETTO:+0200
TZNAME:CEST
DTSTART:20220327T010000
END:DAYLIGHT
BEGIN:STANDARD
TZOFFSETFROM:+0200
TZOFFSETTO:+0100
TZNAME:CET
DTSTART:20221030T010000
END:STANDARD
BEGIN:DAYLIGHT
TZOFFSETFROM:+0100
TZOFFSETTO:+0200
TZNAME:CEST
DTSTART:20230326T010000
END:DAYLIGHT
BEGIN:STANDARD
TZOFFSETFROM:+0200
TZOFFSETTO:+0100
TZNAME:CET
DTSTART:20231029T010000
END:STANDARD
BEGIN:DAYLIGHT
TZOFFSETFROM:+0100
TZOFFSETTO:+0200
TZNAME:CEST
DTSTART:20240331T010000
END:DAYLIGHT
BEGIN:STANDARD
TZOFFSETFROM:+0200
TZOFFSETTO:+0100
TZNAME:CET
DTSTART:20241027T010000
END:STANDARD
END:VTIMEZONE
BEGIN:VEVENT
DTSTART;TZID=Europe/Berlin:20230928T170000
DTEND;TZID=Europe/Berlin:20230928T180000
DTSTAMP:20260424T103355
CREATED:20230920T192028Z
LAST-MODIFIED:20230921T105603Z
UID:14029-1695920400-1695924000@www.kepler-chemnitz.de
SUMMARY:Schnupperstunde mit dem Förderverein
DESCRIPTION:Liebe Eltern\, liebe Mitglieder\, \nwir suchen im Vereins-Vorstand für die nächste Wahlperiode Verstärkung und bieten heute eine Kennenlernstunde an.\nSchauen Sie rein\, schnuppern Sie sich durch unsere To-Do-Liste – vielleicht ist ja auch ein Aufgabenbereich von uns genau Ihr Ding. \nWir freuen uns auf Ihr Kommen. \nGern können Sie sich auch vorab per E-Mail bei uns anmelden – ffjkg@kepler-chemnitz.de
URL:https://www.kepler-chemnitz.de/event/schnupperstunde-mit-dem-foerderverein/
LOCATION:Johannes-Kepler-Gymnasium\, Deutschland
ATTACH;FMTTYPE=image/jpeg:https://www.kepler-chemnitz.de/wp-content/uploads/2023/09/Foerderverein_iStock-1176571518_Feodora-Chiosea-1024x594-1.jpg
END:VEVENT
END:VCALENDAR